BEGIN:VCALENDAR
VERSION:2.0
PRODID:-//Fort Myers River District //NONSGML Events //EN
CALSCALE:GREGORIAN
X-WR-CALNAME:Fort Myers River District
BEGIN:VEVENT
CREATED:20250929T192537Z
UID:3360
DTEND;VALUE=DATE:19700823T062031
DTSTART;VALUE=DATE:20251231
DTSTAMP:20260422T104334Z
LOCATION:First and Hendry
DESCRIPTION:Ring in the new year at Southwest Florida's biggest and best NYE celebration in Downtown Fort Myers. Five performance areas featuring Smack Daddy, School of Rock, Caloosa River Band and much much more. Ball Drop and Fireworks at midnight.
SUMMARY:Downtown NYE Celebration
ORGANIZER:RDA
URL;VALUE=URI:https://www.myriverdistrict.com/event/downtown-nye-celebration/
TRANSP:OPAQUE
BEGIN:VALARM
ACTION:DISPLAY
TRIGGER;VALUE=DATE-TIME:
DESCRIPTION:Reminder for Downtown NYE Celebration
END:VALARM
END:VEVENT
END:VCALENDAR
