BEGIN:VCALENDAR
VERSION:2.0
PRODID:-//Fort Myers River District //NONSGML Events //EN
CALSCALE:GREGORIAN
X-WR-CALNAME:Fort Myers River District
BEGIN:VEVENT
CREATED:20250625T035618Z
UID:3190
DTEND;VALUE=DATE:19700823T061329
DTSTART;VALUE=DATE:20250809
DTSTAMP:20260422T170836Z
LOCATION:2268 Bay Street
DESCRIPTION:FLORIDA REPERTORY THEATER<br /> AUGUST 9TH • AGES 21+ w/ VALID ID<br /> <br /> Florida's Drag Superstars transform into music's biggest icons! See amazing illusions of Dolly Parton, Barbra Streisand, Cher, Whitney Houston, Bette Midler, and more as you sing-along with their biggest hits! Join us for a magical and nostalgic evening of fun as we journey through the decades with these show-stopping ICONS.<br /> <br /> DON'T WAIT we're selling fast!<br /> Doors 6PM - Show 7-8:30PM
SUMMARY:ICONS • Celebrity Illusion Drag Show
ORGANIZER:Florida Repertory Theater
URL;VALUE=URI:https://www.myriverdistrict.com/event/icons-celebrity-illusion-drag-show/
TRANSP:OPAQUE
BEGIN:VALARM
ACTION:DISPLAY
TRIGGER;VALUE=DATE-TIME:
DESCRIPTION:Reminder for ICONS • Celebrity Illusion Drag Show
END:VALARM
END:VEVENT
END:VCALENDAR
