BEGIN:VCALENDAR
VERSION:2.0
PRODID:-//Fort Myers River District //NONSGML Events //EN
CALSCALE:GREGORIAN
X-WR-CALNAME:Fort Myers River District
BEGIN:VEVENT
CREATED:20250210T155645Z
UID:3040
DTEND;VALUE=DATE:19700823T060516
DTSTART;VALUE=DATE:20250316
DTSTAMP:20260421T173744Z
LOCATION:First and Hendry
DESCRIPTION:The biggest and best St. Patrick's Day event in Southwest Florida..... held on SUNDAY, MARCH 16.... A day for the whole family to enjoy.... Petting Zoo and Kids Activities 12-3 pm, ..... Live Irish Bands, Dancers, and Downtown Restaurants serving traditional Irish and non traditional food. Main Stage Band - Deb and the Dynamics (4 - 8 pm). Event is FREE to the public.
SUMMARY:St. Patrick’s Day Block Party
ORGANIZER:
URL;VALUE=URI:https://www.myriverdistrict.com/event/st-patricks-day-block-party/
TRANSP:OPAQUE
BEGIN:VALARM
ACTION:DISPLAY
TRIGGER;VALUE=DATE-TIME:
DESCRIPTION:Reminder for St. Patrick&#8217\;s Day Block Party
END:VALARM
END:VEVENT
END:VCALENDAR
