BEGIN:VCALENDAR
VERSION:2.0
PRODID:-//Fort Myers River District //NONSGML Events //EN
CALSCALE:GREGORIAN
X-WR-CALNAME:Fort Myers River District
BEGIN:VEVENT
CREATED:20241015T142825Z
UID:2932
DTEND;VALUE=DATE:19700823T033346
DTSTART;VALUE=DATE:20241226T190000
DTSTAMP:20260422T083238Z
LOCATION:Caloosa Sound Convention Center - 1375 Monroe St
DESCRIPTION:Don't Stop Believin' – Journey fans, it's time to turn up the volume and head to Caloosa Sound Convention Center on December 27 for a night full of Faithfully epic tunes! We’re taking you back to the '80s with an incredible Journey tribute band that will have you feeling like you're on your Separate Ways.
SUMMARY:DEPARTURE: The Journey Tribute Band
ORGANIZER:Ashley Gray
URL;VALUE=URI:https://www.myriverdistrict.com/event/departure-the-journey-tribute-band-2/
TRANSP:OPAQUE
BEGIN:VALARM
ACTION:DISPLAY
TRIGGER;VALUE=DATE-TIME:
DESCRIPTION:Reminder for DEPARTURE: The Journey Tribute Band
END:VALARM
END:VEVENT
END:VCALENDAR
